BEGIN:VCALENDAR
METHOD:PUBLISH
VERSION:2.0
CALSCALE:GREGORIAN
PRODID:-//NONSGML WPForms//NONSGML Sugar Calendar Feeds v3.11.0//EN
X-WR-CALNAME:Breastfeeding Class: 4/22/2026
X-WR-CALDESC:Saint Francis Healthcare System
X-WR-TIMEZONE:America/Chicago
BEGIN:VTIMEZONE
TZID:America/Chicago
BEGIN:STANDARD
TZOFFSETFROM:-0500
TZOFFSETTO:-0600
DTSTART:20251102T070000
TZNAME:CST
END:STANDARD
BEGIN:DAYLIGHT
TZOFFSETFROM:-0600
TZOFFSETTO:-0500
DTSTART:20260308T080000
TZNAME:CDT
END:DAYLIGHT
END:VTIMEZONE
BEGIN:VTIMEZONE
TZID:America/Chicago
BEGIN:STANDARD
TZOFFSETFROM:-0500
TZOFFSETTO:-0600
DTSTART:20251102T070000
TZNAME:CST
END:STANDARD
BEGIN:DAYLIGHT
TZOFFSETFROM:-0600
TZOFFSETTO:-0500
DTSTART:20260308T080000
TZNAME:CDT
END:DAYLIGHT
END:VTIMEZONE
BEGIN:VEVENT
SUMMARY:Breastfeeding Class: 4/22/2026
DESCRIPTION:Class Start Date: Wednesday\, April 22\, 2026 at 4:00 PM.\n\
 n\n\nA must-take class for expecting parents inspired by Mother Nature t
 o breastfeed. Topics are breast physiology\, milk production\, positioni
 ng\, diet\, pumping and storing breast milk.\n\n\n\nTo register\, please
  call 573-331-5501
URL;VALUE=URI:https://www.sfmc.net/events/breastfeeding-class-4-22-2026/
UID:urn:uuid:e1537476-519d-45d1-be93-b706adf13ee5
STATUS:CONFIRMED
ORGANIZER:
DTSTAMP:20260419T121519Z
DTSTART;TZID=America/Chicago:20260422T160000
DTEND;TZID=America/Chicago:20260422T183000
LOCATION:MAC Classroom\, 211 Saint Francis Drive\, Entrance 5\, Cape Gir
 ardeau\, Missouri\, Missouri\, 63703\, United States
END:VEVENT
END:VCALENDAR